Workbook

Sheet srpen
B2: HAD - Vyhodnocení kontrol v restauračních zařízeních
B3: HZS krajů - 8/2018
C4: I. Základní údaje | E4: počet | F4: poznámka
B5: 1. | C5: celkový počet kontrol | E5: =[1]HKK!E5+[1]JCK!E5+[1]JMK!E5+[1]KVK!E5+[1]LIB!E5+[1]MSK!E5+[1]OLK!E5+[1]PAK!E5+[1]PLK!E5+[1]PRAHA!E5+[1]STK!E5+[1]ULK!E5+[1]VYS!E5+[1]ZLK!E5 -> 216
C6: z toho: | D6: bez nedostatků | E6: =SUM([1]HKK!E6+[1]JCK!E6+[1]JMK!E6+[1]KVK!E6+[1]LIB!E6+[1]MSK!E6+[1]OLK!E6+[1]PAK!E6+[1]PLK!E6+[1]PRAHA!E6+[1]STK!E6+[1]ULK!E6+[1]VYS!E6+[1]ZLK!E6) -> 65 | F6: =E6/E5 -> 0.30092593
D7: s nedostatky | E7: =SUM([1]HKK!E7+[1]JCK!E7+[1]JMK!E7+[1]KVK!E7+[1]LIB!E7+[1]MSK!E7+[1]OLK!E7+[1]PAK!E7+[1]PLK!E7+[1]PRAHA!E7+[1]STK!E7+[1]ULK!E7+[1]VYS!E7+[1]ZLK!E7) -> 151 | F7: =E7/E5 -> 0.69907407
B8: 2. | C8: celkový počet zjištěných nedostatků | E8: 474 | F8: =E8/E5 -> 2.1944444 | G8: (2,2 nedostatky na 1 kontrolu)
B9: 3. | C9: celkový počet zahájených správních řízení | E9: =SUM([1]HKK!E9+[1]JCK!E9+[1]JMK!E9+[1]KVK!E9+[1]LIB!E9+[1]MSK!E9+[1]OLK!E9+[1]PAK!E9+[1]PLK!E9+[1]PRAHA!E9+[1]STK!E9+[1]ULK!E9+[1]VYS!E9+[1]ZLK!E9) -> 34
C11: II. Výsledky kontrol | E11: počet nedostatků | F11: poznámka
B12: 1. | C12: Označení čísla tísňového volání (požární poplachové směrnice) | E12: =SUM([1]HKK!E12+[1]JCK!E12+[1]JMK!E12+[1]KVK!E12+[1]LIB!E12+[1]MSK!E12+[1]OLK!E12+[1]PAK!E12+[1]PLK!E12+[1]PRAHA!E12+[1]STK!E12+[1]ULK!E12+[1]VYS!E12+[1]ZLK!E12) -> 99 | F12: =E12/E$8 -> 0.20886076
B13: 2. | C13: Označení rozvodných zařízení elektrické energie, hlavních vypínačů elektrického proudu, uzávěrů vody, plynu a jejich přístupnost | D13: označení | E13: =SUM([1]HKK!E13+[1]JCK!E13+[1]JMK!E13+[1]KVK!E13+[1]LIB!E13+[1]MSK!E13+[1]OLK!E13+[1]PAK!E13+[1]PLK!E13+[1]PRAHA!E13+[1]STK!E13+[1]ULK!E13+[1]VYS!E13+[1]ZLK!E13) -> 92 | F13: =E13/E$8 -> 0.19409283
D14: přístupnost | E14: =SUM([1]HKK!E14+[1]JCK!E14+[1]JMK!E14+[1]KVK!E14+[1]LIB!E14+[1]MSK!E14+[1]OLK!E14+[1]PAK!E14+[1]PLK!E14+[1]PRAHA!E14+[1]STK!E14+[1]ULK!E14+[1]VYS!E14+[1]ZLK!E14) -> 19 | F14: =E14/E$8 -> 0.040084388
B15: 3. | C15: Označení nouzových (únikových) východů, evakuačních výtahů, směrů úniků | E15: =SUM([1]HKK!E15+[1]JCK!E15+[1]JMK!E15+[1]KVK!E15+[1]LIB!E15+[1]MSK!E15+[1]OLK!E15+[1]PAK!E15+[1]PLK!E15+[1]PRAHA!E15+[1]STK!E15+[1]ULK!E15+[1]VYS!E15+[1]ZLK!E15) -> 58 | F15: =E15/E$8 -> 0.12236287
B16: 4. | C16: Trvale volně průchodné komunikační prostory, které jsou součástí únikových cest | E16: =SUM([1]HKK!E16+[1]JCK!E16+[1]JMK!E16+[1]KVK!E16+[1]LIB!E16+[1]MSK!E16+[1]OLK!E16+[1]PAK!E16+[1]PLK!E16+[1]PRAHA!E16+[1]STK!E16+[1]ULK!E16+[1]VYS!E16+[1]ZLK!E16) -> 23 | F16: =E16/E$8 -> 0.048523207
B17: 5. | C17: Umístění a přístupnost přenosných hasicích přístrojů | E17: =SUM([1]HKK!E17+[1]JCK!E17+[1]JMK!E17+[1]KVK!E17+[1]LIB!E17+[1]MSK!E17+[1]OLK!E17+[1]PAK!E17+[1]PLK!E17+[1]PRAHA!E17+[1]STK!E17+[1]ULK!E17+[1]VYS!E17+[1]ZLK!E17) -> 92 | F17: =E17/E$8 -> 0.19409283
B18: 6. | C18: Přístupnost vnitřních nástěnných hydrantů | E18: =SUM([1]HKK!E18+[1]JCK!E18+[1]JMK!E18+[1]KVK!E18+[1]LIB!E18+[1]MSK!E18+[1]OLK!E18+[1]PAK!E18+[1]PLK!E18+[1]PRAHA!E18+[1]STK!E18+[1]ULK!E18+[1]VYS!E18+[1]ZLK!E18) -> 12 | F18: =E18/E$8 -> 0.025316456
B19: 7. | C19: Jiná zjištění | E19: =SUM([1]HKK!E19+[1]JCK!E19+[1]JMK!E19+[1]KVK!E19+[1]LIB!E19+[1]MSK!E19+[1]OLK!E19+[1]PAK!E19+[1]PLK!E19+[1]PRAHA!E19+[1]STK!E19+[1]ULK!E19+[1]VYS!E19+[1]ZLK!E19) -> 79 | F19: =E19/E$8 -> 0.16666667
E20: =SUM(E12:E19) -> 474

Sheet listopad
B2: HAD - Vyhodnocení kontrol v restauračních zařízeních
B3: HZS krajů - 11/2018
C4: I. Základní údaje | E4: počet | F4: poznámka
B5: 1. | C5: celkový počet kontrol | E5: =[2]HKK!E5+[2]JCK!E5+[2]JMK!E5+[2]KVK!E5+[2]LIB!E5+[2]MSK!E5+[2]OLK!E5+[2]PAK!E5+[2]PLK!E5+[2]PRAHA!E5+[2]STK!E5+[2]ULK!E5+[2]VYS!E5+[2]ZLK!E5 -> 164
C6: z toho: | D6: bez nedostatků | E6: =SUM([2]HKK!E6+[2]JCK!E6+[2]JMK!E6+[2]KVK!E6+[2]LIB!E6+[2]MSK!E6+[2]OLK!E6+[2]PAK!E6+[2]PLK!E6+[2]PRAHA!E6+[2]STK!E6+[2]ULK!E6+[2]VYS!E6+[2]ZLK!E6) -> 50 | F6: =E6/E5 -> 0.30487805
D7: s nedostatky | E7: =SUM([2]HKK!E7+[2]JCK!E7+[2]JMK!E7+[2]KVK!E7+[2]LIB!E7+[2]MSK!E7+[2]OLK!E7+[2]PAK!E7+[2]PLK!E7+[2]PRAHA!E7+[2]STK!E7+[2]ULK!E7+[2]VYS!E7+[2]ZLK!E7) -> 114 | F7: =E7/E5 -> 0.69512195
B8: 2. | C8: celkový počet zjištěných nedostatků | E8: =SUM([2]HKK!E8+[2]JCK!E8+[2]JMK!E8+[2]KVK!E8+[2]LIB!E8+[2]MSK!E8+[2]OLK!E8+[2]PAK!E8+[2]PLK!E8+[2]PRAHA!E8+[2]STK!E8+[2]ULK!E8+[2]VYS!E8+[2]ZLK!E8) -> 338 | F8: =E8/E5 -> 2.0609756 | G8: (2,1 nedostatky na 1 kontrolu)
B9: 3. | C9: celkový počet zahájených správních řízení | E9: =SUM([2]HKK!E9+[2]JCK!E9+[2]JMK!E9+[2]KVK!E9+[2]LIB!E9+[2]MSK!E9+[2]OLK!E9+[2]PAK!E9+[2]PLK!E9+[2]PRAHA!E9+[2]STK!E9+[2]ULK!E9+[2]VYS!E9+[2]ZLK!E9) -> 52
C11: II. Výsledky kontrol | E11: počet nedostatků | F11: poznámka
B12: 1. | C12: Označení čísla tísňového volání (požární poplachové směrnice) | E12: =SUM([2]HKK!E12+[2]JCK!E12+[2]JMK!E12+[2]KVK!E12+[2]LIB!E12+[2]MSK!E12+[2]OLK!E12+[2]PAK!E12+[2]PLK!E12+[2]PRAHA!E12+[2]STK!E12+[2]ULK!E12+[2]VYS!E12+[2]ZLK!E12) -> 84 | F12: =E12/E$8 -> 0.24852071
B13: 2. | C13: Označení rozvodných zařízení elektrické energie, hlavních vypínačů elektrického proudu, uzávěrů vody, plynu a jejich přístupnost | D13: označení | E13: =SUM([2]HKK!E13+[2]JCK!E13+[2]JMK!E13+[2]KVK!E13+[2]LIB!E13+[2]MSK!E13+[2]OLK!E13+[2]PAK!E13+[2]PLK!E13+[2]PRAHA!E13+[2]STK!E13+[2]ULK!E13+[2]VYS!E13+[2]ZLK!E13) -> 71 | F13: =E13/E$8 -> 0.21005917
D14: přístupnost | E14: =SUM([2]HKK!E14+[2]JCK!E14+[2]JMK!E14+[2]KVK!E14+[2]LIB!E14+[2]MSK!E14+[2]OLK!E14+[2]PAK!E14+[2]PLK!E14+[2]PRAHA!E14+[2]STK!E14+[2]ULK!E14+[2]VYS!E14+[2]ZLK!E14) -> 11 | F14: =E14/E$8 -> 0.032544379
B15: 3. | C15: Označení nouzových (únikových) východů, evakuačních výtahů, směrů úniků | E15: =SUM([2]HKK!E15+[2]JCK!E15+[2]JMK!E15+[2]KVK!E15+[2]LIB!E15+[2]MSK!E15+[2]OLK!E15+[2]PAK!E15+[2]PLK!E15+[2]PRAHA!E15+[2]STK!E15+[2]ULK!E15+[2]VYS!E15+[2]ZLK!E15) -> 36 | F15: =E15/E$8 -> 0.10650888
B16: 4. | C16: Trvale volně průchodné komunikační prostory, které jsou součástí únikových cest | E16: =SUM([2]HKK!E16+[2]JCK!E16+[2]JMK!E16+[2]KVK!E16+[2]LIB!E16+[2]MSK!E16+[2]OLK!E16+[2]PAK!E16+[2]PLK!E16+[2]PRAHA!E16+[2]STK!E16+[2]ULK!E16+[2]VYS!E16+[2]ZLK!E16) -> 18 | F16: =E16/E$8 -> 0.053254438
B17: 5. | C17: Umístění a přístupnost přenosných hasicích přístrojů | E17: =SUM([2]HKK!E17+[2]JCK!E17+[2]JMK!E17+[2]KVK!E17+[2]LIB!E17+[2]MSK!E17+[2]OLK!E17+[2]PAK!E17+[2]PLK!E17+[2]PRAHA!E17+[2]STK!E17+[2]ULK!E17+[2]VYS!E17+[2]ZLK!E17) -> 33 | F17: =E17/E$8 -> 0.097633136
B18: 6. | C18: Přístupnost vnitřních nástěnných hydrantů | E18: =SUM([2]HKK!E18+[2]JCK!E18+[2]JMK!E18+[2]KVK!E18+[2]LIB!E18+[2]MSK!E18+[2]OLK!E18+[2]PAK!E18+[2]PLK!E18+[2]PRAHA!E18+[2]STK!E18+[2]ULK!E18+[2]VYS!E18+[2]ZLK!E18) -> 3 | F18: =E18/E$8 -> 0.0088757396
B19: 7. | C19: Jiná zjištění | E19: =SUM([2]HKK!E19+[2]JCK!E19+[2]JMK!E19+[2]KVK!E19+[2]LIB!E19+[2]MSK!E19+[2]OLK!E19+[2]PAK!E19+[2]PLK!E19+[2]PRAHA!E19+[2]STK!E19+[2]ULK!E19+[2]VYS!E19+[2]ZLK!E19) -> 82 | F19: =E19/E$8 -> 0.24260355
E20: =SUM(E12:E19) -> 338

Sheet prosinec
B2: HAD - Vyhodnocení kontrol v restauračních zařízeních
B3: HZS krajů - 12/2018
C4: I. Základní údaje | E4: počet | F4: poznámka
B5: 1. | C5: celkový počet kontrol | E5: =[3]HKK!E5+[3]JCK!E5+[3]JMK!E5+[3]KVK!E5+[3]LIB!E5+[3]MSK!E5+[3]OLK!E5+[3]PAK!E5+[3]PLK!E5+[3]PRAHA!E5+[3]STK!E5+[3]ULK!E5+[3]VYS!E5+[3]ZLK!E5 -> 129
C6: z toho: | D6: bez nedostatků | E6: =SUM([3]HKK!E6+[3]JCK!E6+[3]JMK!E6+[3]KVK!E6+[3]LIB!E6+[3]MSK!E6+[3]OLK!E6+[3]PAK!E6+[3]PLK!E6+[3]PRAHA!E6+[3]STK!E6+[3]ULK!E6+[3]VYS!E6+[3]ZLK!E6) -> 36 | F6: =E6/E5 -> 0.27906977
D7: s nedostatky | E7: =SUM([3]HKK!E7+[3]JCK!E7+[3]JMK!E7+[3]KVK!E7+[3]LIB!E7+[3]MSK!E7+[3]OLK!E7+[3]PAK!E7+[3]PLK!E7+[3]PRAHA!E7+[3]STK!E7+[3]ULK!E7+[3]VYS!E7+[3]ZLK!E7) -> 93 | F7: =E7/E5 -> 0.72093023
B8: 2. | C8: celkový počet zjištěných nedostatků | E8: =SUM([3]HKK!E8+[3]JCK!E8+[3]JMK!E8+[3]KVK!E8+[3]LIB!E8+[3]MSK!E8+[3]OLK!E8+[3]PAK!E8+[3]PLK!E8+[3]PRAHA!E8+[3]STK!E8+[3]ULK!E8+[3]VYS!E8+[3]ZLK!E8) -> 288 | F8: =E8/E5 -> 2.2325581 | G8: (2,2 nedostatky na 1 kontrolu)
B9: 3. | C9: celkový počet zahájených správních řízení | E9: =SUM([3]HKK!E9+[3]JCK!E9+[3]JMK!E9+[3]KVK!E9+[3]LIB!E9+[3]MSK!E9+[3]OLK!E9+[3]PAK!E9+[3]PLK!E9+[3]PRAHA!E9+[3]STK!E9+[3]ULK!E9+[3]VYS!E9+[3]ZLK!E9) -> 30
C11: II. Výsledky kontrol | E11: počet nedostatků | F11: poznámka
B12: 1. | C12: Označení čísla tísňového volání (požární poplachové směrnice) | E12: =SUM([3]HKK!E12+[3]JCK!E12+[3]JMK!E12+[3]KVK!E12+[3]LIB!E12+[3]MSK!E12+[3]OLK!E12+[3]PAK!E12+[3]PLK!E12+[3]PRAHA!E12+[3]STK!E12+[3]ULK!E12+[3]VYS!E12+[3]ZLK!E12) -> 59 | F12: =E12/E$8 -> 0.20486111
B13: 2. | C13: Označení rozvodných zařízení elektrické energie, hlavních vypínačů elektrického proudu, uzávěrů vody, plynu a jejich přístupnost | D13: označení | E13: =SUM([3]HKK!E13+[3]JCK!E13+[3]JMK!E13+[3]KVK!E13+[3]LIB!E13+[3]MSK!E13+[3]OLK!E13+[3]PAK!E13+[3]PLK!E13+[3]PRAHA!E13+[3]STK!E13+[3]ULK!E13+[3]VYS!E13+[3]ZLK!E13) -> 67 | F13: =E13/E$8 -> 0.23263889
D14: přístupnost | E14: =SUM([3]HKK!E14+[3]JCK!E14+[3]JMK!E14+[3]KVK!E14+[3]LIB!E14+[3]MSK!E14+[3]OLK!E14+[3]PAK!E14+[3]PLK!E14+[3]PRAHA!E14+[3]STK!E14+[3]ULK!E14+[3]VYS!E14+[3]ZLK!E14) -> 4 | F14: =E14/E$8 -> 0.013888889
B15: 3. | C15: Označení nouzových (únikových) východů, evakuačních výtahů, směrů úniků | E15: =SUM([3]HKK!E15+[3]JCK!E15+[3]JMK!E15+[3]KVK!E15+[3]LIB!E15+[3]MSK!E15+[3]OLK!E15+[3]PAK!E15+[3]PLK!E15+[3]PRAHA!E15+[3]STK!E15+[3]ULK!E15+[3]VYS!E15+[3]ZLK!E15) -> 45 | F15: =E15/E$8 -> 0.15625
B16: 4. | C16: Trvale volně průchodné komunikační prostory, které jsou součástí únikových cest | E16: =SUM([3]HKK!E16+[3]JCK!E16+[3]JMK!E16+[3]KVK!E16+[3]LIB!E16+[3]MSK!E16+[3]OLK!E16+[3]PAK!E16+[3]PLK!E16+[3]PRAHA!E16+[3]STK!E16+[3]ULK!E16+[3]VYS!E16+[3]ZLK!E16) -> 9 | F16: =E16/E$8 -> 0.03125
B17: 5. | C17: Umístění a přístupnost přenosných hasicích přístrojů | E17: =SUM([3]HKK!E17+[3]JCK!E17+[3]JMK!E17+[3]KVK!E17+[3]LIB!E17+[3]MSK!E17+[3]OLK!E17+[3]PAK!E17+[3]PLK!E17+[3]PRAHA!E17+[3]STK!E17+[3]ULK!E17+[3]VYS!E17+[3]ZLK!E17) -> 53 | F17: =E17/E$8 -> 0.18402778
B18: 6. | C18: Přístupnost vnitřních nástěnných hydrantů | E18: =SUM([3]HKK!E18+[3]JCK!E18+[3]JMK!E18+[3]KVK!E18+[3]LIB!E18+[3]MSK!E18+[3]OLK!E18+[3]PAK!E18+[3]PLK!E18+[3]PRAHA!E18+[3]STK!E18+[3]ULK!E18+[3]VYS!E18+[3]ZLK!E18) -> 1 | F18: =E18/E$8 -> 0.0034722222
B19: 7. | C19: Jiná zjištění | E19: =SUM([3]HKK!E19+[3]JCK!E19+[3]JMK!E19+[3]KVK!E19+[3]LIB!E19+[3]MSK!E19+[3]OLK!E19+[3]PAK!E19+[3]PLK!E19+[3]PRAHA!E19+[3]STK!E19+[3]ULK!E19+[3]VYS!E19+[3]ZLK!E19) -> 50 | F19: =E19/E$8 -> 0.17361111
E20: =SUM(E12:E19) -> 288

Sheet celkem za rok 2018
B2: HAD - Vyhodnocení kontrol v restauračních zařízeních
B3: HZS krajů za rok 2018
C4: I. Základní údaje | E4: počet | F4: poznámka
B5: 1. | C5: celkový počet kontrol | E5: =SUM(srpen!E5+listopad!E5+prosinec!E5) -> 509
C6: z toho: | D6: bez nedostatků | E6: =SUM(srpen!E6+listopad!E6+prosinec!E6) -> 151 | F6: =E6/E5 -> 0.29666012
D7: s nedostatky | E7: =SUM(srpen!E7+listopad!E7+prosinec!E7) -> 358 | F7: =E7/E5 -> 0.70333988
B8: 2. | C8: celkový počet zjištěných nedostatků | E8: =SUM(srpen!E8+listopad!E8+prosinec!E8) -> 1100 | F8: =E8/E5 -> 2.1611002 | G8: (2,16 nedostatky na 1 kontrolu)
B9: 3. | C9: celkový počet zahájených správních řízení | E9: =SUM(srpen!E9+listopad!E9+prosinec!E9) -> 116
C11: II. Výsledky kontrol | E11: počet nedostatků | F11: poznámka
B12: 1. | C12: Označení čísla tísňového volání (požární poplachové směrnice) | E12: =SUM(srpen!E12+listopad!E12+prosinec!E12) -> 242
B13: 2. | C13: Označení rozvodných zařízení elektrické energie, hlavních vypínačů elektrického proudu, uzávěrů vody, plynu a jejich přístupnost | D13: označení | E13: =SUM(srpen!E13+listopad!E13+prosinec!E13) -> 230
D14: přístupnost | E14: =SUM(srpen!E14+listopad!E14+prosinec!E14) -> 34
B15: 3. | C15: Označení nouzových (únikových) východů, evakuačních výtahů, směrů úniků | E15: =SUM(srpen!E15+listopad!E15+prosinec!E15) -> 139
B16: 4. | C16: Trvale volně průchodné komunikační prostory, které jsou součástí únikových cest | E16: =SUM(srpen!E16+listopad!E16+prosinec!E16) -> 50
B17: 5. | C17: Umístění a přístupnost přenosných hasicích přístrojů | E17: =SUM(srpen!E17+listopad!E17+prosinec!E17) -> 178
B18: 6. | C18: Přístupnost vnitřních nástěnných hydrantů | E18: =SUM(srpen!E18+listopad!E18+prosinec!E18) -> 16
B19: 7. | C19: Jiná zjištění | E19: =SUM(srpen!E19+listopad!E19+prosinec!E19) -> 211
E20: =SUM(E12:E19) -> 1100
